BEGIN:VCALENDAR
VERSION:2.0
PRODID:-//Avrasya Üniversitesi - ECPv6.15.12.2//NONSGML v1.0//EN
CALSCALE:GREGORIAN
METHOD:PUBLISH
X-WR-CALNAME:Avrasya Üniversitesi
X-ORIGINAL-URL:https://mmf.avrasya.edu.tr
X-WR-CALDESC:Avrasya Üniversitesi için etkinlikler
REFRESH-INTERVAL;VALUE=DURATION:PT1H
X-Robots-Tag:noindex
X-PUBLISHED-TTL:PT1H
BEGIN:VTIMEZONE
TZID:Europe/Moscow
BEGIN:STANDARD
TZOFFSETFROM:+0300
TZOFFSETTO:+0300
TZNAME:MSK
DTSTART:20200101T000000
END:STANDARD
END:VTIMEZONE
BEGIN:VEVENT
DTSTART;VALUE=DATE:20210624
DTEND;VALUE=DATE:20210625
DTSTAMP:20260420T124747
CREATED:20210110T101724Z
LAST-MODIFIED:20210327T093349Z
UID:7379-1624492800-1624579199@mmf.avrasya.edu.tr
SUMMARY:Avrasya Üniversitesi Ulusal Sempozyum: Gıda Alerjenleri\, Bulaşanları ve Halk Sağlığı Açısından Önemi
DESCRIPTION:
URL:https://mmf.avrasya.edu.tr/event/etlinlik-1/
ATTACH;FMTTYPE=image/jpeg:https://mmf.avrasya.edu.tr/wp-content/uploads/2021/01/gida-2.jpg
END:VEVENT
END:VCALENDAR